BEGIN:VCALENDAR
VERSION:2.0
PRODID:icalendar-ruby
CALSCALE:GREGORIAN
METHOD:PUBLISH
BEGIN:VEVENT
DTSTAMP:20260421T101740Z
UID:411-5466053@stjohnnv.ca
DTSTART:20240717T020000Z
DTEND:20240717T030000Z
CLASS:PUBLIC
CREATED:20260421T030227
DESCRIPTION:Alanon Meeting
LAST-MODIFIED:20260421T030227
LOCATION:Church Lounge
SUMMARY:Alanon Meeting
URL;VALUE=URI:https://www.stjohnnv.ca/events/alanon-meeting/2024-07-16
END:VEVENT
END:VCALENDAR
