BEGIN:VCALENDAR
VERSION:2.0
PRODID:icalendar-ruby
CALSCALE:GREGORIAN
METHOD:PUBLISH
BEGIN:VEVENT
DTSTAMP:20260422T011347Z
UID:411-5474926@stjohnnv.ca
DTSTART:20240904T020000Z
DTEND:20240904T030000Z
CLASS:PUBLIC
CREATED:20260421T160901
DESCRIPTION:Alanon Meeting
LAST-MODIFIED:20260421T160901
LOCATION:Church Lounge
SUMMARY:Alanon Meeting
URL;VALUE=URI:https://www.stjohnnv.ca/events/alanon-meeting/2024-09-03
END:VEVENT
END:VCALENDAR
