BEGIN:VCALENDAR
VERSION:2.0
PRODID:icalendar-ruby
CALSCALE:GREGORIAN
METHOD:PUBLISH
BEGIN:VEVENT
DTSTAMP:20260421T125757Z
UID:215-5467191@stjohnnv.ca
DTSTART:20241227T030000Z
DTEND:20241227T050000Z
CLASS:PUBLIC
CREATED:20260421T053838
DESCRIPTION:The Choir gathers to practice on Thursday evenings. Christie an
 d Galina would be happy to speak to anyone who is interested in joining! W
 hether you are a singer or a musician\, whether you want to join every wee
 k or just special events\, please reach out to Christie or Galina for more
  information.\n \nLink To More Information
LAST-MODIFIED:20260421T053838
LOCATION:
SUMMARY:St. John's Choir Practice
URL;VALUE=URI:https://www.stjohnnv.ca/events/st-johns-choir-practice--215/2
 024-12-26
ATTACH;FILENAME=IMG_4483.jpeg;FMTTYPE=image/jpeg:https://dq5pwpg1q8ru0.clou
 dfront.net/2024/04/26/19/09/15/802fbc69-154c-4154-8a15-dfc08ba2ee73/IMG_44
 83.jpeg
END:VEVENT
END:VCALENDAR
